BEGIN:VCALENDAR
VERSION:2.0
PRODID:-//Faustball - ECPv6.15.17.1//NONSGML v1.0//EN
CALSCALE:GREGORIAN
METHOD:PUBLISH
X-ORIGINAL-URL:https://www.tsv-staffelstein.de/faustball
X-WR-CALDESC:Veranstaltungen für Faustball
REFRESH-INTERVAL;VALUE=DURATION:PT1H
X-Robots-Tag:noindex
X-PUBLISHED-TTL:PT1H
BEGIN:VTIMEZONE
TZID:Europe/Berlin
BEGIN:DAYLIGHT
TZOFFSETFROM:+0100
TZOFFSETTO:+0200
TZNAME:CEST
DTSTART:20210328T010000
END:DAYLIGHT
BEGIN:STANDARD
TZOFFSETFROM:+0200
TZOFFSETTO:+0100
TZNAME:CET
DTSTART:20211031T010000
END:STANDARD
BEGIN:DAYLIGHT
TZOFFSETFROM:+0100
TZOFFSETTO:+0200
TZNAME:CEST
DTSTART:20220327T010000
END:DAYLIGHT
BEGIN:STANDARD
TZOFFSETFROM:+0200
TZOFFSETTO:+0100
TZNAME:CET
DTSTART:20221030T010000
END:STANDARD
BEGIN:DAYLIGHT
TZOFFSETFROM:+0100
TZOFFSETTO:+0200
TZNAME:CEST
DTSTART:20230326T010000
END:DAYLIGHT
BEGIN:STANDARD
TZOFFSETFROM:+0200
TZOFFSETTO:+0100
TZNAME:CET
DTSTART:20231029T010000
END:STANDARD
END:VTIMEZONE
BEGIN:VEVENT
DTSTART;TZID=Europe/Berlin:20221105T130000
DTEND;TZID=Europe/Berlin:20221105T170000
DTSTAMP:20260423T053640
CREATED:20221030T184634Z
LAST-MODIFIED:20221101T150827Z
UID:248-1667653200-1667667600@www.tsv-staffelstein.de
SUMMARY:U12 mixed - Spieltag 2 - Hallerstein
DESCRIPTION:Gegner: TV Hallerstein 2 & TV Hallerstein
URL:https://www.tsv-staffelstein.de/faustball/veranstaltung/u12-mixed-spieltag-ii-hallerstein/
LOCATION:Grundschul-Turnhalle Schwarzenbach\, Breslauer Straße 9\, Schwarzenbach a. d. Saale\, 95126
END:VEVENT
END:VCALENDAR