BEGIN:VCALENDAR
VERSION:2.0
PRODID:-//Faustball - ECPv6.15.17.1//NONSGML v1.0//EN
CALSCALE:GREGORIAN
METHOD:PUBLISH
X-ORIGINAL-URL:https://www.tsv-staffelstein.de/faustball
X-WR-CALDESC:Veranstaltungen für Faustball
REFRESH-INTERVAL;VALUE=DURATION:PT1H
X-Robots-Tag:noindex
X-PUBLISHED-TTL:PT1H
BEGIN:VTIMEZONE
TZID:Europe/Berlin
BEGIN:DAYLIGHT
TZOFFSETFROM:+0100
TZOFFSETTO:+0200
TZNAME:CEST
DTSTART:20210328T010000
END:DAYLIGHT
BEGIN:STANDARD
TZOFFSETFROM:+0200
TZOFFSETTO:+0100
TZNAME:CET
DTSTART:20211031T010000
END:STANDARD
BEGIN:DAYLIGHT
TZOFFSETFROM:+0100
TZOFFSETTO:+0200
TZNAME:CEST
DTSTART:20220327T010000
END:DAYLIGHT
BEGIN:STANDARD
TZOFFSETFROM:+0200
TZOFFSETTO:+0100
TZNAME:CET
DTSTART:20221030T010000
END:STANDARD
BEGIN:DAYLIGHT
TZOFFSETFROM:+0100
TZOFFSETTO:+0200
TZNAME:CEST
DTSTART:20230326T010000
END:DAYLIGHT
BEGIN:STANDARD
TZOFFSETFROM:+0200
TZOFFSETTO:+0100
TZNAME:CET
DTSTART:20231029T010000
END:STANDARD
END:VTIMEZONE
BEGIN:VEVENT
DTSTART;TZID=Europe/Berlin:20221127T110000
DTEND;TZID=Europe/Berlin:20221127T140000
DTSTAMP:20260423T053748
CREATED:20221027T090007Z
LAST-MODIFIED:20221101T193526Z
UID:176-1669546800-1669557600@www.tsv-staffelstein.de
SUMMARY:Frauen (2. Bundesliga) - Spieltag 2 - Görlitz
DESCRIPTION:Gegner: SV Energie Görlitz & TV 1848 Schwabach
URL:https://www.tsv-staffelstein.de/faustball/veranstaltung/zweiter-spieltag-der-frauen-2-bundesliga/
LOCATION:Turnhalle Emil von Schenkendorff\, Hugo-Keller-Straße 14\, Görlitz\, 02826\, Deutschland
CATEGORIES:Frauen 1
ATTACH;FMTTYPE=image/jpeg:https://www.tsv-staffelstein.de/faustball/wp-content/uploads/sites/4/2022/08/faustball_bus.jpg
END:VEVENT
BEGIN:VEVENT
DTSTART;TZID=Europe/Berlin:20221127T110000
DTEND;TZID=Europe/Berlin:20221127T140000
DTSTAMP:20260423T053748
CREATED:20221030T193628Z
LAST-MODIFIED:20221101T145819Z
UID:302-1669546800-1669557600@www.tsv-staffelstein.de
SUMMARY:Männer (Bayernliga) - Spieltag 6 - Augsburg
DESCRIPTION:Gegner: TV Augsburg 2 & TSV Unterpfaffenhofen
URL:https://www.tsv-staffelstein.de/faustball/veranstaltung/maenner-bayernliga-spieltag-vi-augsburg/
LOCATION:Schulsporthalle Friedrich-Ebert-Mittelschule\, Friedrich-Ebert-Straße 16 - 18\, Augsburg\, 86199
END:VEVENT
END:VCALENDAR