BEGIN:VCALENDAR
VERSION:2.0
PRODID:-//Faustball - ECPv6.15.17.1//NONSGML v1.0//EN
CALSCALE:GREGORIAN
METHOD:PUBLISH
X-WR-CALNAME:Faustball
X-ORIGINAL-URL:https://www.tsv-staffelstein.de/faustball
X-WR-CALDESC:Veranstaltungen für Faustball
REFRESH-INTERVAL;VALUE=DURATION:PT1H
X-Robots-Tag:noindex
X-PUBLISHED-TTL:PT1H
BEGIN:VTIMEZONE
TZID:Europe/Berlin
BEGIN:DAYLIGHT
TZOFFSETFROM:+0100
TZOFFSETTO:+0200
TZNAME:CEST
DTSTART:20210328T010000
END:DAYLIGHT
BEGIN:STANDARD
TZOFFSETFROM:+0200
TZOFFSETTO:+0100
TZNAME:CET
DTSTART:20211031T010000
END:STANDARD
BEGIN:DAYLIGHT
TZOFFSETFROM:+0100
TZOFFSETTO:+0200
TZNAME:CEST
DTSTART:20220327T010000
END:DAYLIGHT
BEGIN:STANDARD
TZOFFSETFROM:+0200
TZOFFSETTO:+0100
TZNAME:CET
DTSTART:20221030T010000
END:STANDARD
BEGIN:DAYLIGHT
TZOFFSETFROM:+0100
TZOFFSETTO:+0200
TZNAME:CEST
DTSTART:20230326T010000
END:DAYLIGHT
BEGIN:STANDARD
TZOFFSETFROM:+0200
TZOFFSETTO:+0100
TZNAME:CET
DTSTART:20231029T010000
END:STANDARD
END:VTIMEZONE
BEGIN:VEVENT
DTSTART;TZID=Europe/Berlin:20221211T110000
DTEND;TZID=Europe/Berlin:20221211T140000
DTSTAMP:20260423T041429
CREATED:20221030T191738Z
LAST-MODIFIED:20221101T193604Z
UID:280-1670756400-1670767200@www.tsv-staffelstein.de
SUMMARY:Frauen (2. Bundesliga) - Heimspieltag
DESCRIPTION:Gegner: SV Tannheim & ASV Veitsbronn
URL:https://www.tsv-staffelstein.de/faustball/veranstaltung/frauen-2-bundesliga-heimspieltag/
LOCATION:Adam-Riese Halle\, St.-Georg-Straße 12\, Bad Staffelstein\, 96231\, Deutschland
CATEGORIES:Frauen 1
END:VEVENT
BEGIN:VEVENT
DTSTART;TZID=Europe/Berlin:20221211T110000
DTEND;TZID=Europe/Berlin:20221211T140000
DTSTAMP:20260423T041429
CREATED:20221030T194013Z
LAST-MODIFIED:20221101T145730Z
UID:307-1670756400-1670767200@www.tsv-staffelstein.de
SUMMARY:Männer (Bayernliga) - Spieltag 6 - Landshut
DESCRIPTION:Gegner: MTV Rosenheim & TG Landshut
URL:https://www.tsv-staffelstein.de/faustball/veranstaltung/maenner-bayernliga-spieltag-vi-landshut/
LOCATION:Hans-Leinberger Halle\, Jürgen-Schumann-Straße 20\, Landshut\, 84034\, Deutschland
END:VEVENT
END:VCALENDAR