BEGIN:VCALENDAR
VERSION:2.0
PRODID:-//Faustball - ECPv6.15.17.1//NONSGML v1.0//EN
CALSCALE:GREGORIAN
METHOD:PUBLISH
X-WR-CALNAME:Faustball
X-ORIGINAL-URL:https://www.tsv-staffelstein.de/faustball
X-WR-CALDESC:Veranstaltungen für Faustball
REFRESH-INTERVAL;VALUE=DURATION:PT1H
X-Robots-Tag:noindex
X-PUBLISHED-TTL:PT1H
BEGIN:VTIMEZONE
TZID:Europe/Berlin
BEGIN:DAYLIGHT
TZOFFSETFROM:+0100
TZOFFSETTO:+0200
TZNAME:CEST
DTSTART:20220327T010000
END:DAYLIGHT
BEGIN:STANDARD
TZOFFSETFROM:+0200
TZOFFSETTO:+0100
TZNAME:CET
DTSTART:20221030T010000
END:STANDARD
BEGIN:DAYLIGHT
TZOFFSETFROM:+0100
TZOFFSETTO:+0200
TZNAME:CEST
DTSTART:20230326T010000
END:DAYLIGHT
BEGIN:STANDARD
TZOFFSETFROM:+0200
TZOFFSETTO:+0100
TZNAME:CET
DTSTART:20231029T010000
END:STANDARD
BEGIN:DAYLIGHT
TZOFFSETFROM:+0100
TZOFFSETTO:+0200
TZNAME:CEST
DTSTART:20240331T010000
END:DAYLIGHT
BEGIN:STANDARD
TZOFFSETFROM:+0200
TZOFFSETTO:+0100
TZNAME:CET
DTSTART:20241027T010000
END:STANDARD
END:VTIMEZONE
BEGIN:VEVENT
DTSTART;TZID=Europe/Berlin:20230114T123000
DTEND;TZID=Europe/Berlin:20230114T170000
DTSTAMP:20260423T023644
CREATED:20221030T185234Z
LAST-MODIFIED:20221101T145649Z
UID:254-1673699400-1673715600@www.tsv-staffelstein.de
SUMMARY:U16 weiblich - Spieltag 3 - Hallerstein
DESCRIPTION:Gegner: TV Hallerstein\, TS Thiersheim\, TV Herrnwahlthann
URL:https://www.tsv-staffelstein.de/faustball/veranstaltung/u16-weiblich-spieltag-iii-hallerstein/
LOCATION:Gymnasiumhalle Münchberg\, Hofer Str. 41\, Münchberg\, 95213
END:VEVENT
END:VCALENDAR