BEGIN:VCALENDAR
VERSION:2.0
PRODID:-//Faustball - ECPv6.15.17.1//NONSGML v1.0//EN
CALSCALE:GREGORIAN
METHOD:PUBLISH
X-ORIGINAL-URL:https://www.tsv-staffelstein.de/faustball
X-WR-CALDESC:Veranstaltungen für Faustball
REFRESH-INTERVAL;VALUE=DURATION:PT1H
X-Robots-Tag:noindex
X-PUBLISHED-TTL:PT1H
BEGIN:VTIMEZONE
TZID:Europe/Berlin
BEGIN:DAYLIGHT
TZOFFSETFROM:+0100
TZOFFSETTO:+0200
TZNAME:CEST
DTSTART:20230326T010000
END:DAYLIGHT
BEGIN:STANDARD
TZOFFSETFROM:+0200
TZOFFSETTO:+0100
TZNAME:CET
DTSTART:20231029T010000
END:STANDARD
BEGIN:DAYLIGHT
TZOFFSETFROM:+0100
TZOFFSETTO:+0200
TZNAME:CEST
DTSTART:20240331T010000
END:DAYLIGHT
BEGIN:STANDARD
TZOFFSETFROM:+0200
TZOFFSETTO:+0100
TZNAME:CET
DTSTART:20241027T010000
END:STANDARD
BEGIN:DAYLIGHT
TZOFFSETFROM:+0100
TZOFFSETTO:+0200
TZNAME:CEST
DTSTART:20250330T010000
END:DAYLIGHT
BEGIN:STANDARD
TZOFFSETFROM:+0200
TZOFFSETTO:+0100
TZNAME:CET
DTSTART:20251026T010000
END:STANDARD
END:VTIMEZONE
BEGIN:VEVENT
DTSTART;TZID=Europe/Berlin:20240512T100000
DTEND;TZID=Europe/Berlin:20240512T130000
DTSTAMP:20260421T160916
CREATED:20240501T155459Z
LAST-MODIFIED:20240501T155459Z
UID:840-1715508000-1715518800@www.tsv-staffelstein.de
SUMMARY:Frauen 1. Bundesliga - Spieltag 2 - Heimspieltag
DESCRIPTION:Gegner: TSV Pfungstadt & ASV Veitsbronn
URL:https://www.tsv-staffelstein.de/faustball/veranstaltung/frauen-1-bundesliga-spieltag-2-heimspieltag/
LOCATION:Platz an der Peter J. Moll Halle\, Georg Herpich Platz 6\, Bad Staffelstein\, 96215
CATEGORIES:Frauen 1
END:VEVENT
BEGIN:VEVENT
DTSTART;TZID=Europe/Berlin:20240512T110000
DTEND;TZID=Europe/Berlin:20240512T140000
DTSTAMP:20260421T160916
CREATED:20240501T151536Z
LAST-MODIFIED:20240501T151536Z
UID:824-1715511600-1715522400@www.tsv-staffelstein.de
SUMMARY:Männer Bayernliga - Spieltag 3 - TV Augsburg
DESCRIPTION:Gegner: TV Augsburg 2 & MTV Rosenheim
URL:https://www.tsv-staffelstein.de/faustball/veranstaltung/maenner-bayernliga-spieltag-3-tv-augsburg/
LOCATION:Sportplatz Turnverein Augsburg 1847\, Gabelsbergerstraße 64\, Augsburg\, 86199
CATEGORIES:Männer 1
END:VEVENT
BEGIN:VEVENT
DTSTART;TZID=Europe/Berlin:20240512T143000
DTEND;TZID=Europe/Berlin:20240512T173000
DTSTAMP:20260421T160916
CREATED:20240501T154010Z
LAST-MODIFIED:20240501T154010Z
UID:832-1715524200-1715535000@www.tsv-staffelstein.de
SUMMARY:Männer Bezirksliga - Spieltag 1 - Heimspieltag
DESCRIPTION:Gegner: SV Hof & TV Hallerstein 2
URL:https://www.tsv-staffelstein.de/faustball/veranstaltung/maenner-bezirksliga-spieltag-1-heimspieltag/
LOCATION:Platz an der Peter J. Moll Halle\, Georg Herpich Platz 6\, Bad Staffelstein\, 96215
CATEGORIES:Männer 2
END:VEVENT
END:VCALENDAR