BEGIN:VCALENDAR
VERSION:2.0
PRODID:-//Faustball - ECPv6.15.17.1//NONSGML v1.0//EN
CALSCALE:GREGORIAN
METHOD:PUBLISH
X-ORIGINAL-URL:https://www.tsv-staffelstein.de/faustball
X-WR-CALDESC:Veranstaltungen für Faustball
REFRESH-INTERVAL;VALUE=DURATION:PT1H
X-Robots-Tag:noindex
X-PUBLISHED-TTL:PT1H
BEGIN:VTIMEZONE
TZID:Europe/Berlin
BEGIN:DAYLIGHT
TZOFFSETFROM:+0100
TZOFFSETTO:+0200
TZNAME:CEST
DTSTART:20230326T010000
END:DAYLIGHT
BEGIN:STANDARD
TZOFFSETFROM:+0200
TZOFFSETTO:+0100
TZNAME:CET
DTSTART:20231029T010000
END:STANDARD
BEGIN:DAYLIGHT
TZOFFSETFROM:+0100
TZOFFSETTO:+0200
TZNAME:CEST
DTSTART:20240331T010000
END:DAYLIGHT
BEGIN:STANDARD
TZOFFSETFROM:+0200
TZOFFSETTO:+0100
TZNAME:CET
DTSTART:20241027T010000
END:STANDARD
BEGIN:DAYLIGHT
TZOFFSETFROM:+0100
TZOFFSETTO:+0200
TZNAME:CEST
DTSTART:20250330T010000
END:DAYLIGHT
BEGIN:STANDARD
TZOFFSETFROM:+0200
TZOFFSETTO:+0100
TZNAME:CET
DTSTART:20251026T010000
END:STANDARD
END:VTIMEZONE
BEGIN:VEVENT
DTSTART;TZID=Europe/Berlin:20241109T100000
DTEND;TZID=Europe/Berlin:20241109T130000
DTSTAMP:20260421T031841
CREATED:20241107T135155Z
LAST-MODIFIED:20241107T135155Z
UID:975-1731146400-1731157200@www.tsv-staffelstein.de
SUMMARY:U18 - Heimspieltag
DESCRIPTION:https://www.faustball.com/#/contest/7202/competition
URL:https://www.tsv-staffelstein.de/faustball/veranstaltung/u18-heimspieltag/
LOCATION:Adam-Riese Halle\, St.-Georg-Straße 12\, Bad Staffelstein\, 96231\, Deutschland
END:VEVENT
END:VCALENDAR