BEGIN:VCALENDAR
VERSION:2.0
PRODID:-//Faustball - ECPv6.15.17.1//NONSGML v1.0//EN
CALSCALE:GREGORIAN
METHOD:PUBLISH
X-WR-CALNAME:Faustball
X-ORIGINAL-URL:https://www.tsv-staffelstein.de/faustball
X-WR-CALDESC:Veranstaltungen für Faustball
REFRESH-INTERVAL;VALUE=DURATION:PT1H
X-Robots-Tag:noindex
X-PUBLISHED-TTL:PT1H
BEGIN:VTIMEZONE
TZID:Europe/Berlin
BEGIN:DAYLIGHT
TZOFFSETFROM:+0100
TZOFFSETTO:+0200
TZNAME:CEST
DTSTART:20210328T010000
END:DAYLIGHT
BEGIN:STANDARD
TZOFFSETFROM:+0200
TZOFFSETTO:+0100
TZNAME:CET
DTSTART:20211031T010000
END:STANDARD
BEGIN:DAYLIGHT
TZOFFSETFROM:+0100
TZOFFSETTO:+0200
TZNAME:CEST
DTSTART:20220327T010000
END:DAYLIGHT
BEGIN:STANDARD
TZOFFSETFROM:+0200
TZOFFSETTO:+0100
TZNAME:CET
DTSTART:20221030T010000
END:STANDARD
BEGIN:DAYLIGHT
TZOFFSETFROM:+0100
TZOFFSETTO:+0200
TZNAME:CEST
DTSTART:20230326T010000
END:DAYLIGHT
BEGIN:STANDARD
TZOFFSETFROM:+0200
TZOFFSETTO:+0100
TZNAME:CET
DTSTART:20231029T010000
END:STANDARD
END:VTIMEZONE
BEGIN:VEVENT
DTSTART;TZID=Europe/Berlin:20221105T130000
DTEND;TZID=Europe/Berlin:20221105T170000
DTSTAMP:20260423T041429
CREATED:20221030T184634Z
LAST-MODIFIED:20221101T150827Z
UID:248-1667653200-1667667600@www.tsv-staffelstein.de
SUMMARY:U12 mixed - Spieltag 2 - Hallerstein
DESCRIPTION:Gegner: TV Hallerstein 2 & TV Hallerstein
URL:https://www.tsv-staffelstein.de/faustball/veranstaltung/u12-mixed-spieltag-ii-hallerstein/
LOCATION:Grundschul-Turnhalle Schwarzenbach\, Breslauer Straße 9\, Schwarzenbach a. d. Saale\, 95126
END:VEVENT
BEGIN:VEVENT
DTSTART;TZID=Europe/Berlin:20221106T110000
DTEND;TZID=Europe/Berlin:20221106T140000
DTSTAMP:20260423T041429
CREATED:20221011T114133Z
LAST-MODIFIED:20221101T193501Z
UID:178-1667732400-1667743200@www.tsv-staffelstein.de
SUMMARY:Männer (Bayernliga) - Heimspieltag
DESCRIPTION:Gegner: MTV Rosenheim & TSV Unterpfaffenhofen
URL:https://www.tsv-staffelstein.de/faustball/veranstaltung/erster-spieltag-der-maenner-bayernliga-heimspieltag/
LOCATION:Adam-Riese Halle\, St.-Georg-Straße 12\, Bad Staffelstein\, 96231\, Deutschland
CATEGORIES:Männer 1
ATTACH;FMTTYPE=image/jpeg:https://www.tsv-staffelstein.de/faustball/wp-content/uploads/sites/4/2022/10/TsvFaustballHerren2019-ts1601660704-e1665868378696.jpg
END:VEVENT
BEGIN:VEVENT
DTSTART;TZID=Europe/Berlin:20221106T143000
DTEND;TZID=Europe/Berlin:20221106T170000
DTSTAMP:20260423T041429
CREATED:20221020T152454Z
LAST-MODIFIED:20221101T193508Z
UID:215-1667745000-1667754000@www.tsv-staffelstein.de
SUMMARY:Männer (Bezirksliga) - Heimspieltag
DESCRIPTION:Gegner: TuS Töpen & TV Hallerstein II
URL:https://www.tsv-staffelstein.de/faustball/veranstaltung/maenner-doppel-heimspieltag/
LOCATION:Adam-Riese Halle\, St.-Georg-Straße 12\, Bad Staffelstein\, 96231\, Deutschland
CATEGORIES:Männer 2
ATTACH;FMTTYPE=image/jpeg:https://www.tsv-staffelstein.de/faustball/wp-content/uploads/sites/4/2022/10/2011-Bernd2-ts1601811846.jpg
END:VEVENT
BEGIN:VEVENT
DTSTART;TZID=Europe/Berlin:20221112T100000
DTEND;TZID=Europe/Berlin:20221112T170000
DTSTAMP:20260423T041429
CREATED:20221030T185122Z
LAST-MODIFIED:20221101T150817Z
UID:251-1668247200-1668272400@www.tsv-staffelstein.de
SUMMARY:U16 Doppelspieltag 2 - Hallerstein
DESCRIPTION:U16 männlich – Start 10:00\nGegner: TV Hallerstein & TV Längenau \nU16 weiblich – Start 13:00\nGegner: TV Herrnwahlthann & DJK FV Ursensollen \n 
URL:https://www.tsv-staffelstein.de/faustball/veranstaltung/u16-weiblich-spieltag-ii-hallerstein/
LOCATION:Gymnasiumhalle Münchberg\, Hofer Str. 41\, Münchberg\, 95213
END:VEVENT
BEGIN:VEVENT
DTSTART;TZID=Europe/Berlin:20221113T100000
DTEND;TZID=Europe/Berlin:20221113T130000
DTSTAMP:20260423T041429
CREATED:20221030T190052Z
LAST-MODIFIED:20221101T193519Z
UID:259-1668333600-1668344400@www.tsv-staffelstein.de
SUMMARY:Frauen (Bayernliga) - Spieltag 1 - Herrnwahlthann
DESCRIPTION:Gegner: TV Herrnwahlthann & TV Neugablonz
URL:https://www.tsv-staffelstein.de/faustball/veranstaltung/frauen-bayernliga-spieltag-i-herrnwahlthann/
LOCATION:Mehrzweckhalle Schierling\, Jakob-Brand-Str. 5\, Schierling\, 84069\, Deutschland
CATEGORIES:Frauen 2
END:VEVENT
BEGIN:VEVENT
DTSTART;TZID=Europe/Berlin:20221113T110000
DTEND;TZID=Europe/Berlin:20221113T140000
DTSTAMP:20260423T041429
CREATED:20220920T164607Z
LAST-MODIFIED:20221030T191047Z
UID:137-1668337200-1668348000@www.tsv-staffelstein.de
SUMMARY:Frauen (2. Bundesliga) - Heimspieltag
DESCRIPTION:Gegner: ASV Veitsbronn & SV Tannheim
URL:https://www.tsv-staffelstein.de/faustball/veranstaltung/erster-spieltag-maenner/
LOCATION:Adam-Riese Halle\, St.-Georg-Straße 12\, Bad Staffelstein\, 96231\, Deutschland
ATTACH;FMTTYPE=image/jpeg:https://www.tsv-staffelstein.de/faustball/wp-content/uploads/sites/4/2022/10/e1.jpg
END:VEVENT
BEGIN:VEVENT
DTSTART;TZID=Europe/Berlin:20221113T143000
DTEND;TZID=Europe/Berlin:20221113T170000
DTSTAMP:20260423T041429
CREATED:20221030T193230Z
LAST-MODIFIED:20221101T195140Z
UID:297-1668349800-1668358800@www.tsv-staffelstein.de
SUMMARY:Männer (Bayernliga) - Heimspieltag
DESCRIPTION:Gegner: TV Augsburg 2 & TG Landshut
URL:https://www.tsv-staffelstein.de/faustball/veranstaltung/maenner-bayernliga-heimspieltag/
LOCATION:Adam-Riese Halle\, St.-Georg-Straße 12\, Bad Staffelstein\, 96231\, Deutschland
CATEGORIES:Männer 1
END:VEVENT
BEGIN:VEVENT
DTSTART;TZID=Europe/Berlin:20221120T100000
DTEND;TZID=Europe/Berlin:20221120T130000
DTSTAMP:20260423T041429
CREATED:20221030T193421Z
LAST-MODIFIED:20221101T145842Z
UID:299-1668938400-1668949200@www.tsv-staffelstein.de
SUMMARY:Männer (Bayernliga) - Spieltag 3 - Frammersbach
DESCRIPTION:Gegner: TuS Frammersbach & TV Haibach
URL:https://www.tsv-staffelstein.de/faustball/veranstaltung/maenner-bayernliga-spieltag-iii-frammersbach/
LOCATION:Schulturnhalle am Heuberg\, Schulstraße 7\, Frammersbach\, 97833\, Deutschland
END:VEVENT
BEGIN:VEVENT
DTSTART;TZID=Europe/Berlin:20221120T100000
DTEND;TZID=Europe/Berlin:20221120T170000
DTSTAMP:20260423T041429
CREATED:20221030T190331Z
LAST-MODIFIED:20221101T145834Z
UID:262-1668938400-1668963600@www.tsv-staffelstein.de
SUMMARY:Frauen (Bayernliga) - Spieltag 2 - Eibach
DESCRIPTION:Gegner: TV Eibach 03 & TV Augsburg
URL:https://www.tsv-staffelstein.de/faustball/veranstaltung/frauen-bayernliga-spieltag-ii-eibach/
LOCATION:Sporthalle Helene-von-Forster-Schule Röthenbach\, San-Carlos-Str. 4\, Nürnberg\, 90451\, Deutschland
END:VEVENT
BEGIN:VEVENT
DTSTART;TZID=Europe/Berlin:20221127T110000
DTEND;TZID=Europe/Berlin:20221127T140000
DTSTAMP:20260423T041429
CREATED:20221027T090007Z
LAST-MODIFIED:20221101T193526Z
UID:176-1669546800-1669557600@www.tsv-staffelstein.de
SUMMARY:Frauen (2. Bundesliga) - Spieltag 2 - Görlitz
DESCRIPTION:Gegner: SV Energie Görlitz & TV 1848 Schwabach
URL:https://www.tsv-staffelstein.de/faustball/veranstaltung/zweiter-spieltag-der-frauen-2-bundesliga/
LOCATION:Turnhalle Emil von Schenkendorff\, Hugo-Keller-Straße 14\, Görlitz\, 02826\, Deutschland
CATEGORIES:Frauen 1
ATTACH;FMTTYPE=image/jpeg:https://www.tsv-staffelstein.de/faustball/wp-content/uploads/sites/4/2022/08/faustball_bus.jpg
END:VEVENT
BEGIN:VEVENT
DTSTART;TZID=Europe/Berlin:20221127T110000
DTEND;TZID=Europe/Berlin:20221127T140000
DTSTAMP:20260423T041429
CREATED:20221030T193628Z
LAST-MODIFIED:20221101T145819Z
UID:302-1669546800-1669557600@www.tsv-staffelstein.de
SUMMARY:Männer (Bayernliga) - Spieltag 6 - Augsburg
DESCRIPTION:Gegner: TV Augsburg 2 & TSV Unterpfaffenhofen
URL:https://www.tsv-staffelstein.de/faustball/veranstaltung/maenner-bayernliga-spieltag-vi-augsburg/
LOCATION:Schulsporthalle Friedrich-Ebert-Mittelschule\, Friedrich-Ebert-Straße 16 - 18\, Augsburg\, 86199
END:VEVENT
END:VCALENDAR