BEGIN:VCALENDAR
VERSION:2.0
PRODID:-//Faustball - ECPv6.15.17.1//NONSGML v1.0//EN
CALSCALE:GREGORIAN
METHOD:PUBLISH
X-ORIGINAL-URL:https://www.tsv-staffelstein.de/faustball
X-WR-CALDESC:Veranstaltungen für Faustball
REFRESH-INTERVAL;VALUE=DURATION:PT1H
X-Robots-Tag:noindex
X-PUBLISHED-TTL:PT1H
BEGIN:VTIMEZONE
TZID:Europe/Berlin
BEGIN:DAYLIGHT
TZOFFSETFROM:+0100
TZOFFSETTO:+0200
TZNAME:CEST
DTSTART:20210328T010000
END:DAYLIGHT
BEGIN:STANDARD
TZOFFSETFROM:+0200
TZOFFSETTO:+0100
TZNAME:CET
DTSTART:20211031T010000
END:STANDARD
BEGIN:DAYLIGHT
TZOFFSETFROM:+0100
TZOFFSETTO:+0200
TZNAME:CEST
DTSTART:20220327T010000
END:DAYLIGHT
BEGIN:STANDARD
TZOFFSETFROM:+0200
TZOFFSETTO:+0100
TZNAME:CET
DTSTART:20221030T010000
END:STANDARD
BEGIN:DAYLIGHT
TZOFFSETFROM:+0100
TZOFFSETTO:+0200
TZNAME:CEST
DTSTART:20230326T010000
END:DAYLIGHT
BEGIN:STANDARD
TZOFFSETFROM:+0200
TZOFFSETTO:+0100
TZNAME:CET
DTSTART:20231029T010000
END:STANDARD
END:VTIMEZONE
BEGIN:VEVENT
DTSTART;TZID=Europe/Berlin:20221204T100000
DTEND;TZID=Europe/Berlin:20221204T130000
DTSTAMP:20260423T025126
CREATED:20221030T190553Z
LAST-MODIFIED:20221101T145810Z
UID:265-1670148000-1670158800@www.tsv-staffelstein.de
SUMMARY:Frauen (Bayernliga) - Spieltag 3 - Neugablonz
DESCRIPTION:Gegner: TV Neugablonz & TV Eibach 03
URL:https://www.tsv-staffelstein.de/faustball/veranstaltung/frauen-bayernliga-spieltag-iii-neugablonz/
LOCATION:Dreifachturnhalle – Kaufbeuren Neugablonz\, Turnerstrasse 14\, Kaufbeuren - Neugablonz\, 87600\, Deutschland
END:VEVENT
BEGIN:VEVENT
DTSTART;TZID=Europe/Berlin:20221204T100000
DTEND;TZID=Europe/Berlin:20221204T130000
DTSTAMP:20260423T025126
CREATED:20221030T192742Z
LAST-MODIFIED:20221101T145800Z
UID:291-1670148000-1670158800@www.tsv-staffelstein.de
SUMMARY:Männer (Bezirksliga) - Spieltag 2 - Hallerstein
DESCRIPTION:Gegner: TS Thiersheim & TS Thiersheim 2
URL:https://www.tsv-staffelstein.de/faustball/veranstaltung/maenner-bezirksliga-spieltag-ii-hallerstein/
LOCATION:Gymnasiumhalle Münchberg\, Hofer Str. 41\, Münchberg\, 95213
END:VEVENT
BEGIN:VEVENT
DTSTART;TZID=Europe/Berlin:20221204T100000
DTEND;TZID=Europe/Berlin:20221204T130000
DTSTAMP:20260423T025126
CREATED:20221030T193751Z
LAST-MODIFIED:20221101T195150Z
UID:305-1670148000-1670158800@www.tsv-staffelstein.de
SUMMARY:Männer (Bayernliga) - Spieltag 5 - Frammersbach
DESCRIPTION:Gegner: TuS Frammersbach & ASV Veitsbronn
URL:https://www.tsv-staffelstein.de/faustball/veranstaltung/maenner-bayernliga-spieltag-v-frammersbach/
LOCATION:Schulturnhalle am Heuberg\, Schulstraße 7\, Frammersbach\, 97833\, Deutschland
CATEGORIES:Männer 1
END:VEVENT
BEGIN:VEVENT
DTSTART;TZID=Europe/Berlin:20221204T110000
DTEND;TZID=Europe/Berlin:20221204T140000
DTSTAMP:20260423T025126
CREATED:20221030T191514Z
LAST-MODIFIED:20221107T201420Z
UID:277-1670151600-1670162400@www.tsv-staffelstein.de
SUMMARY:Frauen (2. Bundesliga) - Spieltag 3 - Oberndorf
DESCRIPTION:Gegner: TG Biberach & TV SW-Oberndorf
URL:https://www.tsv-staffelstein.de/faustball/veranstaltung/frauen-2-bundesliga-spieltag-iii-oberndorf/
LOCATION:Georg-Wichtermann-Halle\, Paul-Gerhard-Str. 2\, Schweinfurt\, 97421\, Deutschland
CATEGORIES:Frauen 1
END:VEVENT
BEGIN:VEVENT
DTSTART;TZID=Europe/Berlin:20221210T100000
DTEND;TZID=Europe/Berlin:20221210T130000
DTSTAMP:20260423T025126
CREATED:20221030T183543Z
LAST-MODIFIED:20221101T145738Z
UID:238-1670666400-1670677200@www.tsv-staffelstein.de
SUMMARY:U10 mixed - Spieltag 1 - Thiersheim
DESCRIPTION:Gegner: TS Thiersheim 2 & MTV Bamberg
URL:https://www.tsv-staffelstein.de/faustball/veranstaltung/u10-mixed-spieltag-i-thiersheim/
LOCATION:Sigmund-Wann Realschule\, Nordendstr. 8\, Wunsiedel\, 95632\, Deutschland
END:VEVENT
BEGIN:VEVENT
DTSTART;TZID=Europe/Berlin:20221211T110000
DTEND;TZID=Europe/Berlin:20221211T140000
DTSTAMP:20260423T025126
CREATED:20221030T191738Z
LAST-MODIFIED:20221101T193604Z
UID:280-1670756400-1670767200@www.tsv-staffelstein.de
SUMMARY:Frauen (2. Bundesliga) - Heimspieltag
DESCRIPTION:Gegner: SV Tannheim & ASV Veitsbronn
URL:https://www.tsv-staffelstein.de/faustball/veranstaltung/frauen-2-bundesliga-heimspieltag/
LOCATION:Adam-Riese Halle\, St.-Georg-Straße 12\, Bad Staffelstein\, 96231\, Deutschland
CATEGORIES:Frauen 1
END:VEVENT
BEGIN:VEVENT
DTSTART;TZID=Europe/Berlin:20221211T110000
DTEND;TZID=Europe/Berlin:20221211T140000
DTSTAMP:20260423T025126
CREATED:20221030T194013Z
LAST-MODIFIED:20221101T145730Z
UID:307-1670756400-1670767200@www.tsv-staffelstein.de
SUMMARY:Männer (Bayernliga) - Spieltag 6 - Landshut
DESCRIPTION:Gegner: MTV Rosenheim & TG Landshut
URL:https://www.tsv-staffelstein.de/faustball/veranstaltung/maenner-bayernliga-spieltag-vi-landshut/
LOCATION:Hans-Leinberger Halle\, Jürgen-Schumann-Straße 20\, Landshut\, 84034\, Deutschland
END:VEVENT
BEGIN:VEVENT
DTSTART;TZID=Europe/Berlin:20221217T100000
DTEND;TZID=Europe/Berlin:20221217T130000
DTSTAMP:20260423T025126
CREATED:20221030T183806Z
LAST-MODIFIED:20221030T183806Z
UID:242-1671271200-1671282000@www.tsv-staffelstein.de
SUMMARY:U10 mixed - Heimspieltag
DESCRIPTION:Gegner: TV Stammbach\, TV Hallerstein\, TV Hallerstein II\, TV Hallerstein III
URL:https://www.tsv-staffelstein.de/faustball/veranstaltung/u10-mixed-heimspieltag/
LOCATION:Adam-Riese Halle\, St.-Georg-Straße 12\, Bad Staffelstein\, 96231\, Deutschland
END:VEVENT
BEGIN:VEVENT
DTSTART;TZID=Europe/Berlin:20221218T100000
DTEND;TZID=Europe/Berlin:20221218T130000
DTSTAMP:20260423T025126
CREATED:20221030T190711Z
LAST-MODIFIED:20221030T190711Z
UID:268-1671357600-1671368400@www.tsv-staffelstein.de
SUMMARY:Frauen (Bayernliga) - Heimspieltag
DESCRIPTION:Gegner: TV Herrnwahlthann & TV Augsburg
URL:https://www.tsv-staffelstein.de/faustball/veranstaltung/frauen-bayernliga-heimspieltag/
LOCATION:Adam-Riese Halle\, St.-Georg-Straße 12\, Bad Staffelstein\, 96231\, Deutschland
END:VEVENT
BEGIN:VEVENT
DTSTART;TZID=Europe/Berlin:20221218T100000
DTEND;TZID=Europe/Berlin:20221218T130000
DTSTAMP:20260423T025126
CREATED:20221030T192901Z
LAST-MODIFIED:20221101T145711Z
UID:293-1671357600-1671368400@www.tsv-staffelstein.de
SUMMARY:Männer (Bezirksliga) - Spieltag 3 - Thiersheim
DESCRIPTION:Gegner: SG TSV Seussen / TV Längenau 2 & TV Längenau
URL:https://www.tsv-staffelstein.de/faustball/veranstaltung/maenner-bezirksliga-spieltag-iii-thiersheim/
LOCATION:Sigmund-Wann Realschule\, Nordendstr. 8\, Wunsiedel\, 95632\, Deutschland
END:VEVENT
BEGIN:VEVENT
DTSTART;TZID=Europe/Berlin:20221218T100000
DTEND;TZID=Europe/Berlin:20221218T130000
DTSTAMP:20260423T025126
CREATED:20221030T194159Z
LAST-MODIFIED:20221101T145703Z
UID:310-1671357600-1671368400@www.tsv-staffelstein.de
SUMMARY:Männer (Bayernliga) - Spieltag 7 - Haibach
DESCRIPTION:Gegner: TV Haibach & ASV Veitsbronn
URL:https://www.tsv-staffelstein.de/faustball/veranstaltung/maenner-bayernliga-spieltag-vii-haibach/
LOCATION:Sporthalle am hohen Kreuz\, Sportfeldstraße 1\, Haibach\, 63808\, Deutschland
END:VEVENT
END:VCALENDAR