BEGIN:VCALENDAR
VERSION:2.0
PRODID:-//Faustball - ECPv6.15.17.1//NONSGML v1.0//EN
CALSCALE:GREGORIAN
METHOD:PUBLISH
X-ORIGINAL-URL:https://www.tsv-staffelstein.de/faustball
X-WR-CALDESC:Veranstaltungen für Faustball
REFRESH-INTERVAL;VALUE=DURATION:PT1H
X-Robots-Tag:noindex
X-PUBLISHED-TTL:PT1H
BEGIN:VTIMEZONE
TZID:Europe/Berlin
BEGIN:DAYLIGHT
TZOFFSETFROM:+0100
TZOFFSETTO:+0200
TZNAME:CEST
DTSTART:20220327T010000
END:DAYLIGHT
BEGIN:STANDARD
TZOFFSETFROM:+0200
TZOFFSETTO:+0100
TZNAME:CET
DTSTART:20221030T010000
END:STANDARD
BEGIN:DAYLIGHT
TZOFFSETFROM:+0100
TZOFFSETTO:+0200
TZNAME:CEST
DTSTART:20230326T010000
END:DAYLIGHT
BEGIN:STANDARD
TZOFFSETFROM:+0200
TZOFFSETTO:+0100
TZNAME:CET
DTSTART:20231029T010000
END:STANDARD
BEGIN:DAYLIGHT
TZOFFSETFROM:+0100
TZOFFSETTO:+0200
TZNAME:CEST
DTSTART:20240331T010000
END:DAYLIGHT
BEGIN:STANDARD
TZOFFSETFROM:+0200
TZOFFSETTO:+0100
TZNAME:CET
DTSTART:20241027T010000
END:STANDARD
END:VTIMEZONE
BEGIN:VEVENT
DTSTART;TZID=Europe/Berlin:20231105T110000
DTEND;TZID=Europe/Berlin:20231105T140000
DTSTAMP:20260422T120456
CREATED:20231016T202016Z
LAST-MODIFIED:20231016T202016Z
UID:655-1699182000-1699192800@www.tsv-staffelstein.de
SUMMARY:Männer 1 - Spieltag 2 - Heimspieltag
DESCRIPTION:Gegner: TV Hallerstein & ASV Veitsbronn
URL:https://www.tsv-staffelstein.de/faustball/veranstaltung/maenner-1-spieltag-2-heimspieltag/
LOCATION:Adam-Riese Halle\, St.-Georg-Straße 12\, Bad Staffelstein\, 96231\, Deutschland
CATEGORIES:Männer 1,Spieltage
END:VEVENT
BEGIN:VEVENT
DTSTART;TZID=Europe/Berlin:20231105T110000
DTEND;TZID=Europe/Berlin:20231105T140000
DTSTAMP:20260422T120456
CREATED:20231016T204057Z
LAST-MODIFIED:20231016T204057Z
UID:672-1699182000-1699192800@www.tsv-staffelstein.de
SUMMARY:Frauen 1 - Spieltag 1 - Herrnwahlthann
DESCRIPTION:Gegner: TV Herrnwahlthann & SV Tannheim
URL:https://www.tsv-staffelstein.de/faustball/veranstaltung/frauen-1-spieltag-1-herrnwahlthann/
LOCATION:Mehrzweckhalle Schierling\, Jakob-Brand-Str. 5\, Schierling\, 84069\, Deutschland
CATEGORIES:Frauen 1,Spieltage
END:VEVENT
BEGIN:VEVENT
DTSTART;TZID=Europe/Berlin:20231105T153000
DTEND;TZID=Europe/Berlin:20231105T183000
DTSTAMP:20260422T120456
CREATED:20231019T185112Z
LAST-MODIFIED:20231019T185112Z
UID:682-1699198200-1699209000@www.tsv-staffelstein.de
SUMMARY:Männer 2 - Spieltag 1 - Heimspieltag
DESCRIPTION:Gegner: TS Thiersheim & TV Längenau 2
URL:https://www.tsv-staffelstein.de/faustball/veranstaltung/maenner-2-spieltag-1-heimspieltag/
LOCATION:Adam-Riese Halle\, St.-Georg-Straße 12\, Bad Staffelstein\, 96231\, Deutschland
CATEGORIES:Männer 2,Spieltage
END:VEVENT
BEGIN:VEVENT
DTSTART;TZID=Europe/Berlin:20231111T130000
DTEND;TZID=Europe/Berlin:20231111T160000
DTSTAMP:20260422T120456
CREATED:20231019T192421Z
LAST-MODIFIED:20231019T192421Z
UID:708-1699707600-1699718400@www.tsv-staffelstein.de
SUMMARY:U10 mixed - Spieltag 1 - Hallerstein
DESCRIPTION:Gegner: TV Hallerstein\, TS Thiersheim 2\, TS Thiersheim 3
URL:https://www.tsv-staffelstein.de/faustball/veranstaltung/u10-mixed-spieltag-1-hallerstein/
LOCATION:Grundschul-Turnhalle Schwarzenbach\, Breslauer Straße 9\, Schwarzenbach a. d. Saale\, 95126
CATEGORIES:Jugend U10 mix,Spieltage
END:VEVENT
BEGIN:VEVENT
DTSTART;TZID=Europe/Berlin:20231111T131500
DTEND;TZID=Europe/Berlin:20231111T161500
DTSTAMP:20260422T120456
CREATED:20231019T190243Z
LAST-MODIFIED:20231019T190243Z
UID:692-1699708500-1699719300@www.tsv-staffelstein.de
SUMMARY:U16 männlich - Spieltag 1 - Herrnwahlthann
DESCRIPTION:Gegner: TV Herrnwahlthann & DJK FV Ursensollen
URL:https://www.tsv-staffelstein.de/faustball/veranstaltung/u16-maennlich-spieltag-1-herrnwahlthann/
LOCATION:Mehrzweckhalle Schierling\, Jakob-Brand-Str. 5\, Schierling\, 84069\, Deutschland
CATEGORIES:Jugend U16m,Spieltage
END:VEVENT
BEGIN:VEVENT
DTSTART;TZID=Europe/Berlin:20231111T140000
DTEND;TZID=Europe/Berlin:20231111T170000
DTSTAMP:20260422T120456
CREATED:20231016T202153Z
LAST-MODIFIED:20231016T202153Z
UID:657-1699711200-1699722000@www.tsv-staffelstein.de
SUMMARY:Männer 1 - Spieltag 3 - München
DESCRIPTION:Gegner: SV Weiß-Blau Allianz München & MTV Rosenheim
URL:https://www.tsv-staffelstein.de/faustball/veranstaltung/maenner-1-spieltag-3-muenchen/
LOCATION:Sporthalle Osterwaldstr. 144\, Osterwaldstr. 144\, München\, 80805\, Deutschland
CATEGORIES:Männer 1,Spieltage
END:VEVENT
BEGIN:VEVENT
DTSTART;TZID=Europe/Berlin:20231112T150000
DTEND;TZID=Europe/Berlin:20231112T180000
DTSTAMP:20260422T120456
CREATED:20231019T185300Z
LAST-MODIFIED:20231019T185300Z
UID:684-1699801200-1699812000@www.tsv-staffelstein.de
SUMMARY:Männer 2 - Spieltag 2 - Hallerstein
DESCRIPTION:Gegner: TuS Töpen & TV Hallerstein 2
URL:https://www.tsv-staffelstein.de/faustball/veranstaltung/maenner-2-spieltag-2-hallerstein/
LOCATION:Gymnasiumhalle Münchberg\, Hofer Str. 41\, Münchberg\, 95213
CATEGORIES:Männer 2,Spieltage
END:VEVENT
BEGIN:VEVENT
DTSTART;TZID=Europe/Berlin:20231118T140000
DTEND;TZID=Europe/Berlin:20231118T170000
DTSTAMP:20260422T120456
CREATED:20231019T191609Z
LAST-MODIFIED:20231019T191609Z
UID:704-1700316000-1700326800@www.tsv-staffelstein.de
SUMMARY:U12 männlich - Spieltag 1 - Heimspieltag
DESCRIPTION:Gegner: TV Stammbach & MTV Bamberg
URL:https://www.tsv-staffelstein.de/faustball/veranstaltung/u12-maennlich-spieltag-1-heimspieltag/
LOCATION:Adam-Riese Halle\, St.-Georg-Straße 12\, Bad Staffelstein\, 96231\, Deutschland
CATEGORIES:Jugend U12 mix,Spieltage
END:VEVENT
BEGIN:VEVENT
DTSTART;TZID=Europe/Berlin:20231118T150000
DTEND;TZID=Europe/Berlin:20231118T180000
DTSTAMP:20260422T120456
CREATED:20231019T190951Z
LAST-MODIFIED:20231019T190951Z
UID:698-1700319600-1700330400@www.tsv-staffelstein.de
SUMMARY:U16 weiblich - Spieltag 1 - Thiersheim
DESCRIPTION:Gegner: TS Thiersheim & TV Hallerstein
URL:https://www.tsv-staffelstein.de/faustball/veranstaltung/u16-weiblich-spieltag-1-thiersheim/
LOCATION:Sigmund-Wann Realschule\, Nordendstr. 8\, Wunsiedel\, 95632\, Deutschland
CATEGORIES:Jugend U16w,Spieltage
END:VEVENT
BEGIN:VEVENT
DTSTART;TZID=Europe/Berlin:20231125T100000
DTEND;TZID=Europe/Berlin:20231125T130000
DTSTAMP:20260422T120456
CREATED:20231019T190431Z
LAST-MODIFIED:20231019T190431Z
UID:694-1700906400-1700917200@www.tsv-staffelstein.de
SUMMARY:U16 männlich - Spieltag 2 - Heimspieltag
DESCRIPTION:Gegner: SG TV Läng. / TS Thiersh. & DJK FV Ursensollen
URL:https://www.tsv-staffelstein.de/faustball/veranstaltung/u16-maennlich-spieltag-2-heimspieltag/
LOCATION:Adam-Riese Halle\, St.-Georg-Straße 12\, Bad Staffelstein\, 96231\, Deutschland
CATEGORIES:Jugend U16m,Spieltage
END:VEVENT
BEGIN:VEVENT
DTSTART;TZID=Europe/Berlin:20231125T140000
DTEND;TZID=Europe/Berlin:20231125T170000
DTSTAMP:20260422T120456
CREATED:20231019T191111Z
LAST-MODIFIED:20231019T191111Z
UID:700-1700920800-1700931600@www.tsv-staffelstein.de
SUMMARY:U16 weiblich - Spieltag 2 - Heimspieltag
DESCRIPTION:Gegner: TV Stammbach & TV Hallerstein
URL:https://www.tsv-staffelstein.de/faustball/veranstaltung/u16-weiblich-spieltag-2-heimspieltag/
LOCATION:Adam-Riese Halle\, St.-Georg-Straße 12\, Bad Staffelstein\, 96231\, Deutschland
CATEGORIES:Jugend U16w,Spieltage
END:VEVENT
END:VCALENDAR