BEGIN:VCALENDAR
VERSION:2.0
PRODID:-//Faustball - ECPv6.15.17.1//NONSGML v1.0//EN
CALSCALE:GREGORIAN
METHOD:PUBLISH
X-WR-CALNAME:Faustball
X-ORIGINAL-URL:https://www.tsv-staffelstein.de/faustball
X-WR-CALDESC:Veranstaltungen für Faustball
REFRESH-INTERVAL;VALUE=DURATION:PT1H
X-Robots-Tag:noindex
X-PUBLISHED-TTL:PT1H
BEGIN:VTIMEZONE
TZID:Europe/Berlin
BEGIN:DAYLIGHT
TZOFFSETFROM:+0100
TZOFFSETTO:+0200
TZNAME:CEST
DTSTART:20220327T010000
END:DAYLIGHT
BEGIN:STANDARD
TZOFFSETFROM:+0200
TZOFFSETTO:+0100
TZNAME:CET
DTSTART:20221030T010000
END:STANDARD
BEGIN:DAYLIGHT
TZOFFSETFROM:+0100
TZOFFSETTO:+0200
TZNAME:CEST
DTSTART:20230326T010000
END:DAYLIGHT
BEGIN:STANDARD
TZOFFSETFROM:+0200
TZOFFSETTO:+0100
TZNAME:CET
DTSTART:20231029T010000
END:STANDARD
BEGIN:DAYLIGHT
TZOFFSETFROM:+0100
TZOFFSETTO:+0200
TZNAME:CEST
DTSTART:20240331T010000
END:DAYLIGHT
BEGIN:STANDARD
TZOFFSETFROM:+0200
TZOFFSETTO:+0100
TZNAME:CET
DTSTART:20241027T010000
END:STANDARD
END:VTIMEZONE
BEGIN:VEVENT
DTSTART;TZID=Europe/Berlin:20231203T100000
DTEND;TZID=Europe/Berlin:20231203T130000
DTSTAMP:20260420T185314
CREATED:20231016T204239Z
LAST-MODIFIED:20231016T204239Z
UID:674-1701597600-1701608400@www.tsv-staffelstein.de
SUMMARY:Frauen 1 - Spieltag 2 - Heimspieltag
DESCRIPTION:Gegner: TV Herrnwahlthann & SV Tannheim
URL:https://www.tsv-staffelstein.de/faustball/veranstaltung/frauen-1-spieltag-2-heimspieltag/
LOCATION:Adam-Riese Halle\, St.-Georg-Straße 12\, Bad Staffelstein\, 96231\, Deutschland
CATEGORIES:Frauen 1,Spieltage
END:VEVENT
BEGIN:VEVENT
DTSTART;TZID=Europe/Berlin:20231203T143000
DTEND;TZID=Europe/Berlin:20231203T173000
DTSTAMP:20260420T185314
CREATED:20231016T202401Z
LAST-MODIFIED:20231016T202401Z
UID:659-1701613800-1701624600@www.tsv-staffelstein.de
SUMMARY:Männer 1 - Spieltag 4 - Heimspieltag
DESCRIPTION:Gegner: SV Weiß-Blau Allianz München & MTV Rosenheim
URL:https://www.tsv-staffelstein.de/faustball/veranstaltung/maenner-1-spieltag-4-heimspieltag/
LOCATION:Adam-Riese Halle\, St.-Georg-Straße 12\, Bad Staffelstein\, 96231\, Deutschland
CATEGORIES:Männer 1,Spieltage
END:VEVENT
BEGIN:VEVENT
DTSTART;TZID=Europe/Berlin:20231209T120000
DTEND;TZID=Europe/Berlin:20231209T150000
DTSTAMP:20260420T185314
CREATED:20231019T191356Z
LAST-MODIFIED:20231019T191356Z
UID:702-1702123200-1702134000@www.tsv-staffelstein.de
SUMMARY:U16 weiblich - Spieltag 3 - Hallerstein
DESCRIPTION:Gegner: TS Thiersheim & TV Stammbach
URL:https://www.tsv-staffelstein.de/faustball/veranstaltung/u16-weiblich-spieltag-3-hallerstein/
LOCATION:Gymnasiumhalle Münchberg\, Hofer Str. 41\, Münchberg\, 95213
CATEGORIES:Jugend U16w,Spieltage
END:VEVENT
BEGIN:VEVENT
DTSTART;TZID=Europe/Berlin:20231210T100000
DTEND;TZID=Europe/Berlin:20231210T130000
DTSTAMP:20260420T185314
CREATED:20231019T185612Z
LAST-MODIFIED:20231019T185612Z
UID:686-1702202400-1702213200@www.tsv-staffelstein.de
SUMMARY:Männer 2 - Spieltag 3 - Heimspieltag
DESCRIPTION:Gegner: TV Längenau & TV Hallerstein 2
URL:https://www.tsv-staffelstein.de/faustball/veranstaltung/maenner-2-spieltag-3-heimspieltag/
LOCATION:Adam-Riese Halle\, St.-Georg-Straße 12\, Bad Staffelstein\, 96231\, Deutschland
CATEGORIES:Männer 2,Spieltage
END:VEVENT
BEGIN:VEVENT
DTSTART;TZID=Europe/Berlin:20231210T110000
DTEND;TZID=Europe/Berlin:20231210T140000
DTSTAMP:20260420T185314
CREATED:20231016T204510Z
LAST-MODIFIED:20231016T204510Z
UID:676-1702206000-1702216800@www.tsv-staffelstein.de
SUMMARY:Frauen 1 - Spieltag 3 - Oberndorf
DESCRIPTION:Gegner: TV SW-Oberndorf & ASV Veitsbronn
URL:https://www.tsv-staffelstein.de/faustball/veranstaltung/frauen-1-spieltag-3-oberndorf/
LOCATION:Georg-Wichtermann-Halle\, Paul-Gerhard-Str. 2\, Schweinfurt\, 97421\, Deutschland
CATEGORIES:Frauen 1,Spieltage
END:VEVENT
BEGIN:VEVENT
DTSTART;TZID=Europe/Berlin:20231216T100000
DTEND;TZID=Europe/Berlin:20231216T130000
DTSTAMP:20260420T185314
CREATED:20231019T192557Z
LAST-MODIFIED:20231019T192557Z
UID:710-1702720800-1702731600@www.tsv-staffelstein.de
SUMMARY:U10 mixed - Spieltag 2 - Hallerstein
DESCRIPTION:Gegner: TV Hallerstein\, TS Thiersheim 2\, TS Thiersheim 3
URL:https://www.tsv-staffelstein.de/faustball/veranstaltung/u10-mixed-spieltag-2-hallerstein/
LOCATION:Grundschul-Turnhalle Schwarzenbach\, Breslauer Straße 9\, Schwarzenbach a. d. Saale\, 95126
CATEGORIES:Jugend U10 mix,Spieltage
END:VEVENT
BEGIN:VEVENT
DTSTART;TZID=Europe/Berlin:20231216T140000
DTEND;TZID=Europe/Berlin:20231216T170000
DTSTAMP:20260420T185314
CREATED:20231019T190650Z
LAST-MODIFIED:20231019T190650Z
UID:696-1702735200-1702746000@www.tsv-staffelstein.de
SUMMARY:U16 männlich - Spieltag 3 - Thiersheim
DESCRIPTION:Gegner: SG TV Läng. / TS Thiersh. & TV Herrnwahlthann
URL:https://www.tsv-staffelstein.de/faustball/veranstaltung/u16-maennlich-spieltag-3-thiersheim/
LOCATION:Sigmund-Wann Realschule\, Nordendstr. 8\, Wunsiedel\, 95632\, Deutschland
CATEGORIES:Jugend U16m,Spieltage
END:VEVENT
END:VCALENDAR