BEGIN:VCALENDAR
VERSION:2.0
PRODID:-//Faustball - ECPv6.15.17.1//NONSGML v1.0//EN
CALSCALE:GREGORIAN
METHOD:PUBLISH
X-ORIGINAL-URL:https://www.tsv-staffelstein.de/faustball
X-WR-CALDESC:Veranstaltungen für Faustball
REFRESH-INTERVAL;VALUE=DURATION:PT1H
X-Robots-Tag:noindex
X-PUBLISHED-TTL:PT1H
BEGIN:VTIMEZONE
TZID:Europe/Berlin
BEGIN:DAYLIGHT
TZOFFSETFROM:+0100
TZOFFSETTO:+0200
TZNAME:CEST
DTSTART:20230326T010000
END:DAYLIGHT
BEGIN:STANDARD
TZOFFSETFROM:+0200
TZOFFSETTO:+0100
TZNAME:CET
DTSTART:20231029T010000
END:STANDARD
BEGIN:DAYLIGHT
TZOFFSETFROM:+0100
TZOFFSETTO:+0200
TZNAME:CEST
DTSTART:20240331T010000
END:DAYLIGHT
BEGIN:STANDARD
TZOFFSETFROM:+0200
TZOFFSETTO:+0100
TZNAME:CET
DTSTART:20241027T010000
END:STANDARD
BEGIN:DAYLIGHT
TZOFFSETFROM:+0100
TZOFFSETTO:+0200
TZNAME:CEST
DTSTART:20250330T010000
END:DAYLIGHT
BEGIN:STANDARD
TZOFFSETFROM:+0200
TZOFFSETTO:+0100
TZNAME:CET
DTSTART:20251026T010000
END:STANDARD
END:VTIMEZONE
BEGIN:VEVENT
DTSTART;TZID=Europe/Berlin:20240114T110000
DTEND;TZID=Europe/Berlin:20240114T140000
DTSTAMP:20260420T171431
CREATED:20231016T202523Z
LAST-MODIFIED:20231016T202523Z
UID:661-1705230000-1705240800@www.tsv-staffelstein.de
SUMMARY:Männer 1 - Spieltag 5 - Haibach
DESCRIPTION:Gegner: TV Haibach & TSV Allersberg
URL:https://www.tsv-staffelstein.de/faustball/veranstaltung/maenner-1-spieltag-5-haibach/
LOCATION:Sporthalle am hohen Kreuz\, Sportfeldstraße 1\, Haibach\, 63808\, Deutschland
CATEGORIES:Männer 1,Spieltage
END:VEVENT
BEGIN:VEVENT
DTSTART;TZID=Europe/Berlin:20240114T110000
DTEND;TZID=Europe/Berlin:20240114T140000
DTSTAMP:20260420T171431
CREATED:20231016T202709Z
LAST-MODIFIED:20231016T202709Z
UID:663-1705230000-1705240800@www.tsv-staffelstein.de
SUMMARY:Männer 1 - Spieltag 6 - Haibach
DESCRIPTION:Gegner: TSV Unterpfaffenhofen & TV Augsburg 2
URL:https://www.tsv-staffelstein.de/faustball/veranstaltung/maenner-1-spieltag-6-haibach/
LOCATION:Sporthalle am hohen Kreuz\, Sportfeldstraße 1\, Haibach\, 63808\, Deutschland
CATEGORIES:Männer 1,Spieltage
END:VEVENT
BEGIN:VEVENT
DTSTART;TZID=Europe/Berlin:20240114T110000
DTEND;TZID=Europe/Berlin:20240114T140000
DTSTAMP:20260420T171431
CREATED:20231016T204709Z
LAST-MODIFIED:20231016T204709Z
UID:678-1705230000-1705240800@www.tsv-staffelstein.de
SUMMARY:Frauen 1 - Spieltag 4 - Heimspieltag
DESCRIPTION:Gegner: SV Kubschütz & ASV Veitsbronn
URL:https://www.tsv-staffelstein.de/faustball/veranstaltung/frauen-1-spieltag-4-heimspieltag/
LOCATION:Adam-Riese Halle\, St.-Georg-Straße 12\, Bad Staffelstein\, 96231\, Deutschland
CATEGORIES:Frauen 1,Spieltage
END:VEVENT
BEGIN:VEVENT
DTSTART;TZID=Europe/Berlin:20240114T150000
DTEND;TZID=Europe/Berlin:20240114T180000
DTSTAMP:20260420T171431
CREATED:20231019T185739Z
LAST-MODIFIED:20231019T185739Z
UID:688-1705244400-1705255200@www.tsv-staffelstein.de
SUMMARY:Männer 2 - Spieltag 4 - Heimspieltag
DESCRIPTION:Gegner: TV Längenau 2 & TV Hallerstein 2
URL:https://www.tsv-staffelstein.de/faustball/veranstaltung/maenner-2-spieltag-4-heimspieltag/
LOCATION:Adam-Riese Halle\, St.-Georg-Straße 12\, Bad Staffelstein\, 96231\, Deutschland
CATEGORIES:Männer 2,Spieltage
END:VEVENT
BEGIN:VEVENT
DTSTART;TZID=Europe/Berlin:20240120T140000
DTEND;TZID=Europe/Berlin:20240120T170000
DTSTAMP:20260420T171431
CREATED:20231019T192212Z
LAST-MODIFIED:20231019T192212Z
UID:706-1705759200-1705770000@www.tsv-staffelstein.de
SUMMARY:U12 männlich - Spieltag 2 - Heimspieltag
DESCRIPTION:Geger: MTV Bamberg & TV Stammbach
URL:https://www.tsv-staffelstein.de/faustball/veranstaltung/u12-maennlich-spieltag-2-heimspieltag/
LOCATION:Adam-Riese Halle\, St.-Georg-Straße 12\, Bad Staffelstein\, 96231\, Deutschland
CATEGORIES:Jugend U12 mix,Spieltage
END:VEVENT
BEGIN:VEVENT
DTSTART;TZID=Europe/Berlin:20240121T110000
DTEND;TZID=Europe/Berlin:20240121T140000
DTSTAMP:20260420T171431
CREATED:20231016T204903Z
LAST-MODIFIED:20231016T204903Z
UID:680-1705834800-1705845600@www.tsv-staffelstein.de
SUMMARY:Frauen 1 - Spieltag 5 - Kubschütz
DESCRIPTION:Gegner: SV Kubschütz & TV SW-Oberndorf
URL:https://www.tsv-staffelstein.de/faustball/veranstaltung/frauen-1-spieltag-5-kubschuetz/
LOCATION:Slavia-Halle Radibor\, Dr-M.-Grollmuß-Straße 5\, Radibor\, 02627\, Deutschland
CATEGORIES:Frauen 1,Spieltage
END:VEVENT
END:VCALENDAR