BEGIN:VCALENDAR
VERSION:2.0
PRODID:-//Faustball - ECPv6.15.17.1//NONSGML v1.0//EN
CALSCALE:GREGORIAN
METHOD:PUBLISH
X-ORIGINAL-URL:https://www.tsv-staffelstein.de/faustball
X-WR-CALDESC:Veranstaltungen für Faustball
REFRESH-INTERVAL;VALUE=DURATION:PT1H
X-Robots-Tag:noindex
X-PUBLISHED-TTL:PT1H
BEGIN:VTIMEZONE
TZID:Europe/Berlin
BEGIN:DAYLIGHT
TZOFFSETFROM:+0100
TZOFFSETTO:+0200
TZNAME:CEST
DTSTART:20240331T010000
END:DAYLIGHT
BEGIN:STANDARD
TZOFFSETFROM:+0200
TZOFFSETTO:+0100
TZNAME:CET
DTSTART:20241027T010000
END:STANDARD
BEGIN:DAYLIGHT
TZOFFSETFROM:+0100
TZOFFSETTO:+0200
TZNAME:CEST
DTSTART:20250330T010000
END:DAYLIGHT
BEGIN:STANDARD
TZOFFSETFROM:+0200
TZOFFSETTO:+0100
TZNAME:CET
DTSTART:20251026T010000
END:STANDARD
BEGIN:DAYLIGHT
TZOFFSETFROM:+0100
TZOFFSETTO:+0200
TZNAME:CEST
DTSTART:20260329T010000
END:DAYLIGHT
BEGIN:STANDARD
TZOFFSETFROM:+0200
TZOFFSETTO:+0100
TZNAME:CET
DTSTART:20261025T010000
END:STANDARD
END:VTIMEZONE
BEGIN:VEVENT
DTSTART;TZID=Europe/Berlin:20250111T100000
DTEND;TZID=Europe/Berlin:20250111T130000
DTSTAMP:20260421T050238
CREATED:20241107T140833Z
LAST-MODIFIED:20241107T140833Z
UID:989-1736589600-1736600400@www.tsv-staffelstein.de
SUMMARY:U12 - Spieltag 3
DESCRIPTION:https://www.faustball.com/#/contest/7129/competition
URL:https://www.tsv-staffelstein.de/faustball/veranstaltung/u12-spieltag-3/
LOCATION:Sportzentrum Rehau\, Pilgramsreuther Straße 46\, Rehau\, 95111
CATEGORIES:Jugend U12 mix
END:VEVENT
BEGIN:VEVENT
DTSTART;TZID=Europe/Berlin:20250112T110000
DTEND;TZID=Europe/Berlin:20250112T140000
DTSTAMP:20260421T050238
CREATED:20241107T130406Z
LAST-MODIFIED:20241107T130406Z
UID:939-1736679600-1736690400@www.tsv-staffelstein.de
SUMMARY:Damen 1 - Heimspieltag
DESCRIPTION:https://www.faustball.com/#/contest/6290/competition
URL:https://www.tsv-staffelstein.de/faustball/veranstaltung/damen-1-heimspieltag-2/
LOCATION:Adam-Riese Halle\, St.-Georg-Straße 12\, Bad Staffelstein\, 96231\, Deutschland
CATEGORIES:Frauen 1
END:VEVENT
BEGIN:VEVENT
DTSTART;TZID=Europe/Berlin:20250119T110000
DTEND;TZID=Europe/Berlin:20250119T140000
DTSTAMP:20260421T050238
CREATED:20241107T130545Z
LAST-MODIFIED:20241107T130545Z
UID:941-1737284400-1737295200@www.tsv-staffelstein.de
SUMMARY:Damen 1 - Spieltag 6
DESCRIPTION:https://www.faustball.com/#/contest/6290/competition
URL:https://www.tsv-staffelstein.de/faustball/veranstaltung/damen-1-spieltag-6/
LOCATION:Sporthalle Wilhelm-Leuschner-Schule\, Mühlstraße (An der Appelsmühle)\, Pfungstadt\, 64319
CATEGORIES:Frauen 1
END:VEVENT
BEGIN:VEVENT
DTSTART;TZID=Europe/Berlin:20250126T100000
DTEND;TZID=Europe/Berlin:20250126T130000
DTSTAMP:20260421T050238
CREATED:20241107T134449Z
LAST-MODIFIED:20241107T134449Z
UID:971-1737885600-1737896400@www.tsv-staffelstein.de
SUMMARY:Männer 2 - Spieltag 3
DESCRIPTION:https://www.faustball.com/#/contest/7123/competition
URL:https://www.tsv-staffelstein.de/faustball/veranstaltung/maenner-2-spieltag-3/
LOCATION:Sigmund-Wann Realschule\, Nordendstr. 8\, Wunsiedel\, 95632\, Deutschland
CATEGORIES:Männer 1
END:VEVENT
END:VCALENDAR