BEGIN:VCALENDAR
VERSION:2.0
PRODID:-//Faustball - ECPv6.15.17.1//NONSGML v1.0//EN
CALSCALE:GREGORIAN
METHOD:PUBLISH
X-ORIGINAL-URL:https://www.tsv-staffelstein.de/faustball
X-WR-CALDESC:Veranstaltungen für Faustball
REFRESH-INTERVAL;VALUE=DURATION:PT1H
X-Robots-Tag:noindex
X-PUBLISHED-TTL:PT1H
BEGIN:VTIMEZONE
TZID:Europe/Berlin
BEGIN:DAYLIGHT
TZOFFSETFROM:+0100
TZOFFSETTO:+0200
TZNAME:CEST
DTSTART:20240331T010000
END:DAYLIGHT
BEGIN:STANDARD
TZOFFSETFROM:+0200
TZOFFSETTO:+0100
TZNAME:CET
DTSTART:20241027T010000
END:STANDARD
BEGIN:DAYLIGHT
TZOFFSETFROM:+0100
TZOFFSETTO:+0200
TZNAME:CEST
DTSTART:20250330T010000
END:DAYLIGHT
BEGIN:STANDARD
TZOFFSETFROM:+0200
TZOFFSETTO:+0100
TZNAME:CET
DTSTART:20251026T010000
END:STANDARD
BEGIN:DAYLIGHT
TZOFFSETFROM:+0100
TZOFFSETTO:+0200
TZNAME:CEST
DTSTART:20260329T010000
END:DAYLIGHT
BEGIN:STANDARD
TZOFFSETFROM:+0200
TZOFFSETTO:+0100
TZNAME:CET
DTSTART:20261025T010000
END:STANDARD
END:VTIMEZONE
BEGIN:VEVENT
DTSTART;TZID=Europe/Berlin:20250201T130000
DTEND;TZID=Europe/Berlin:20250201T160000
DTSTAMP:20260421T062328
CREATED:20241107T130752Z
LAST-MODIFIED:20241107T130752Z
UID:943-1738414800-1738425600@www.tsv-staffelstein.de
SUMMARY:Damen 1 - Spieltag 7
DESCRIPTION:https://www.faustball.com/#/contest/6290/competition
URL:https://www.tsv-staffelstein.de/faustball/veranstaltung/damen-1-spieltag-7/
LOCATION:Walter Lindner Halle\, Im Krappen 2\, Calw\, 75365
CATEGORIES:Frauen 1
END:VEVENT
BEGIN:VEVENT
DTSTART;TZID=Europe/Berlin:20250202T110000
DTEND;TZID=Europe/Berlin:20250202T140000
DTSTAMP:20260421T062328
CREATED:20241107T130938Z
LAST-MODIFIED:20241107T130938Z
UID:945-1738494000-1738504800@www.tsv-staffelstein.de
SUMMARY:Damen 1 - Heimspieltag
DESCRIPTION:https://www.faustball.com/#/contest/6290/competition
URL:https://www.tsv-staffelstein.de/faustball/veranstaltung/damen-1-heimspieltag-3/
LOCATION:Adam-Riese Halle\, St.-Georg-Straße 12\, Bad Staffelstein\, 96231\, Deutschland
CATEGORIES:Frauen 1
END:VEVENT
BEGIN:VEVENT
DTSTART;TZID=Europe/Berlin:20250202T110000
DTEND;TZID=Europe/Berlin:20250202T140000
DTSTAMP:20260421T062328
CREATED:20241107T133237Z
LAST-MODIFIED:20241107T133237Z
UID:959-1738494000-1738504800@www.tsv-staffelstein.de
SUMMARY:Männer 1 - Spieltag 6
DESCRIPTION:https://www.faustball.com/#/contest/7065/competition
URL:https://www.tsv-staffelstein.de/faustball/veranstaltung/maenner-1-spieltag-6/
LOCATION:Sporthalle TSV Unterpfaffenhofen-Germering\, Alfons-Baumann Str. 7\, Germering\, 82110
CATEGORIES:Männer 1
END:VEVENT
BEGIN:VEVENT
DTSTART;TZID=Europe/Berlin:20250209T140000
DTEND;TZID=Europe/Berlin:20250209T170000
DTSTAMP:20260421T062328
CREATED:20241107T133500Z
LAST-MODIFIED:20241107T133500Z
UID:961-1739109600-1739120400@www.tsv-staffelstein.de
SUMMARY:Männer 1 - Spieltag 7
DESCRIPTION:https://www.faustball.com/#/contest/7065/competition
URL:https://www.tsv-staffelstein.de/faustball/veranstaltung/maenner-1-spieltag-7/
LOCATION:Sporthalle Rot a.d. Rot\, Abt-Hermann-Vogler-Straße 12\, Rot a.d.Rot\, 88430
CATEGORIES:Männer 1
END:VEVENT
BEGIN:VEVENT
DTSTART;TZID=Europe/Berlin:20250215T140000
DTEND;TZID=Europe/Berlin:20250215T170000
DTSTAMP:20260421T062328
CREATED:20241107T141526Z
LAST-MODIFIED:20241107T141526Z
UID:996-1739628000-1739638800@www.tsv-staffelstein.de
SUMMARY:U10 - Heimspieltag
DESCRIPTION:https://www.faustball.com/#/contest/7206/competition
URL:https://www.tsv-staffelstein.de/faustball/veranstaltung/u10heimspieltag/
LOCATION:Adam-Riese Halle\, St.-Georg-Straße 12\, Bad Staffelstein\, 96231\, Deutschland
CATEGORIES:Jugend U10 mix
END:VEVENT
BEGIN:VEVENT
DTSTART;TZID=Europe/Berlin:20250223T100000
DTEND;TZID=Europe/Berlin:20250223T130000
DTSTAMP:20260421T062328
CREATED:20241107T134611Z
LAST-MODIFIED:20241107T134611Z
UID:973-1740304800-1740315600@www.tsv-staffelstein.de
SUMMARY:Männer 2 - Heimspieltag
DESCRIPTION:https://www.faustball.com/#/contest/7123/competition
URL:https://www.tsv-staffelstein.de/faustball/veranstaltung/maenner-2-heimspieltag-2/
LOCATION:Adam-Riese Halle\, St.-Georg-Straße 12\, Bad Staffelstein\, 96231\, Deutschland
CATEGORIES:Männer 2
END:VEVENT
BEGIN:VEVENT
DTSTART;TZID=Europe/Berlin:20250223T133000
DTEND;TZID=Europe/Berlin:20250223T163000
DTSTAMP:20260421T062328
CREATED:20241107T133713Z
LAST-MODIFIED:20241107T133713Z
UID:964-1740317400-1740328200@www.tsv-staffelstein.de
SUMMARY:Männer 1 - Heimspieltag
DESCRIPTION:https://www.faustball.com/#/contest/7065/competition
URL:https://www.tsv-staffelstein.de/faustball/veranstaltung/maenner-1-heimspieltag-3/
LOCATION:Adam-Riese Halle\, St.-Georg-Straße 12\, Bad Staffelstein\, 96231\, Deutschland
CATEGORIES:Männer 1
END:VEVENT
END:VCALENDAR